BEGIN:VCALENDAR
VERSION:2.0
PRODID:-//ChamberMaster//Event Calendar 2.0//EN
METHOD:PUBLISH
X-PUBLISHED-TTL:P3D
REFRESH-INTERVAL:P3D
CALSCALE:GREGORIAN
BEGIN:VEVENT
DTSTART:20260413T130000Z
DTEND:20260413T210000Z
X-MICROSOFT-CDO-ALLDAYEVENT:FALSE
SUMMARY:13th Annual Cocktails & Caddies Golf Tournament
DESCRIPTION:Gather your team and join us for an unforgettable day on the course. Teams of three will take part in a lively auction to secure a fourth player (caddie) - along with an exclusive prize package - a minimum bid of $150.\n\nBeyond the excitement of the auction\, every team that places will receive a prize\, with numerous proxy prizes offering even more chances to win throughout the event. Each participant will also receive a thoughtfully curated premium gift package valued at $75 or more\, featuring high-quality items.\nPlayer fee includes: continental breakfast\, mimosa bar\, 18-holes with cart\, practice range balls\, drink tickets for the course\, boxed lunch provided by Baxter's Lakeside Grille\, and a day of fun!\n\n\n\nCome ready to compete\, connect\, and enjoy a tournament experience that goes well beyond the scorecard.\n\n\n\nCheck-In: 8am\n\nBreakfast & Auction: 8:30am\n\nTee off: 10am
X-ALT-DESC;FMTTYPE=text/html:<p data-end="330" data-start="94"><span style="font-size:16px\;"><span style="font-family:arial\;">Gather your team and join us for an unforgettable day on the course. Teams of three will take part in a lively auction to secure a fourth player (caddie) - along with an exclusive prize package - a minimum bid of $150.</span></span></p>\n\n<p data-end="629" data-start="332"><span style="font-size:16px\;"><span style="font-family:arial\;">Beyond the excitement of the auction\, every team that places will receive a prize\, with numerous proxy prizes offering even more chances to win throughout the event. Each participant will also receive a thoughtfully curated premium gift package valued at $75 or more\, featuring high-quality items.</span></span></p>\n<span style="font-size:16px\;"><span style="font-family:arial\;">Player fee includes: continental breakfast\, mimosa bar\, 18-holes with cart\, practice range balls\, drink tickets for the course\, boxed lunch provided by Baxter&#39\;s Lakeside Grille\, and a day of fun!</span></span><br />\n<br />\n<span style="font-family: arial\; font-size: 16px\;">Come ready to compete\, connect\, and enjoy a tournament experience that goes well beyond the scorecard.</span><br />\n<br />\n<span style="font-size:16px\;"><span style="font-family:arial\;">Check-In: 8am<br />\nBreakfast &amp\; Auction: 8:30am<br />\nTee off: 10am</span></span>
LOCATION:The Club at Porto Cima 133 Club House Dr\, Sunrise Beach\, MO 65079
UID:e.2565.1429
SEQUENCE:3
DTSTAMP:20260421T081757Z
URL:http://business.lakeareachamber.com/events/details/13th-annual-cocktails-caddies-golf-tournament-1429
END:VEVENT

END:VCALENDAR
