BEGIN:VCALENDAR
VERSION:2.0
PRODID:-//ChamberMaster//Event Calendar 2.0//EN
METHOD:PUBLISH
X-PUBLISHED-TTL:P3D
REFRESH-INTERVAL:P3D
CALSCALE:GREGORIAN
BEGIN:VEVENT
DTSTART:20191017T223000Z
DTEND:20191018T010000Z
X-MICROSOFT-CDO-ALLDAYEVENT:FALSE
SUMMARY:2019 - Lake Area Chamber Fall Dinner
DESCRIPTION:UNFORTUNATELY THE RESERVATION DEADLINE HAS APPROACHED AND WE ARE NO LONGER ABLE TO ADD ATTENDEES - WE HOPE YOU'LL JOIN US NEXT YEAR!\n\n\n\nJoin us for our Annual Membership Meeting and Fall Dinner on Thursday\, October 17th\, 2019. Attendees will have the opportunity to network with fellow chamber members\, taste cuisines from "Around the World"\, learn what the Chamber's been up to this past year and help recognize and congratulate businesses and individuals during the annual Business Awards. Sponsorship Opportunities Available- contact the Lake Area Chamber to learn more!
X-ALT-DESC;FMTTYPE=text/html:UNFORTUNATELY THE RESERVATION DEADLINE HAS APPROACHED AND WE ARE NO LONGER ABLE TO ADD ATTENDEES - WE HOPE YOU&#39\;LL JOIN US NEXT YEAR!<br />\n<br />\nJoin us for our Annual Membership Meeting and Fall Dinner on Thursday\, October 17th\, 2019. Attendees will have the opportunity to network with fellow chamber members\, taste cuisines from &quot\;Around the World&quot\;\, learn what the Chamber&#39\;s been up to this past year and help recognize and congratulate businesses and individuals during the annual Business Awards. Sponsorship Opportunities Available- contact the Lake Area Chamber to learn more!
LOCATION:Event will take place at The Regalia Hotel & Conference Center located in Lake Ozark.
UID:e.2565.269
SEQUENCE:3
DTSTAMP:20260425T040232Z
URL:http://business.lakeareachamber.com/events/details/2019-lake-area-chamber-fall-dinner-269
END:VEVENT

END:VCALENDAR
