BEGIN:VCALENDAR
VERSION:2.0
PRODID:-//ChamberMaster//Event Calendar 2.0//EN
METHOD:PUBLISH
X-PUBLISHED-TTL:P3D
REFRESH-INTERVAL:P3D
CALSCALE:GREGORIAN
BEGIN:VEVENT
DTSTART:20201022T223000Z
DTEND:20201023T010000Z
X-MICROSOFT-CDO-ALLDAYEVENT:FALSE
SUMMARY:2020 - Lake Area Chamber Fall Dinner
DESCRIPTION:RESERVATION DEADLINE HAS PASSED - Reservations can no longer be added \n\n\n\nJoin us for our Annual Membership Meeting and Fall Dinner on Thursday\, October 22nd\, 2020. Attendees will have the opportunity to network with fellow chamber members\, enjoy a delicious meal\, learn what the Chamber's been up to this past year and help recognize and congratulate businesses and individuals during the Annual Business Awards. Sponsorship Opportunities Available- contact the Lake Area Chamber to learn more!
X-ALT-DESC;FMTTYPE=text/html:<strong><span style="font-size:20px\;">RESERVATION DEADLINE HAS PASSED - Reservations can no longer be added&nbsp\;</span></strong><br />\n<br />\nJoin us for our Annual Membership Meeting and Fall Dinner on Thursday\, October 22nd\, 2020. Attendees will have the opportunity to network with fellow chamber members\, enjoy a delicious meal\, learn what the Chamber&#39\;s been up to this past year and help recognize and congratulate businesses and individuals during the Annual Business Awards. Sponsorship Opportunities Available- contact the Lake Area Chamber to learn more!
LOCATION:Event will take place at The Regalia Hotel & Conference Center located in Lake Ozark.
UID:e.2565.585
SEQUENCE:3
DTSTAMP:20260423T154741Z
URL:http://business.lakeareachamber.com/events/details/2020-lake-area-chamber-fall-dinner-585
END:VEVENT

END:VCALENDAR
