BEGIN:VCALENDAR
VERSION:2.0
PRODID:-//ChamberMaster//Event Calendar 2.0//EN
METHOD:PUBLISH
X-PUBLISHED-TTL:P3D
REFRESH-INTERVAL:P3D
CALSCALE:GREGORIAN
BEGIN:VEVENT
DTSTART:20210407T164500Z
DTEND:20210407T180000Z
X-MICROSOFT-CDO-ALLDAYEVENT:FALSE
SUMMARY:2021 - April YPL Membership Meeting
DESCRIPTION:Please join us for our next YPL Membership Meeting on Wednesday\, April 7th at Willmore Lodge from 11:45 am to 1:00 pm. Enjoy lunch and networking with your peers. Attendees MUST Pre-Register online or by calling the Lake Area Chamber today at: (573)-964-1008. Deadline for reservations for this event is Friday\, April 2nd\, 2021.\n\nLunch will be $12.00 per person and will be catered by Hy-Vee and no shows will be billed.
X-ALT-DESC;FMTTYPE=text/html:<p><span style="font-size:10.0pt\;font-family:&quot\;Arial&quot\;\,sans-serif\;color:#222222">Please join us for our next YPL Membership Meeting on Wednesday\, April 7th at Willmore Lodge from 11:45 am to 1:00 pm. Enjoy lunch and networking with your peers. Attendees MUST Pre-Register online&nbsp\;or by calling the Lake Area Chamber today at: (573)-964-1008. Deadline for reservations for this event is Friday\, April 2nd\, 2021.<br />\nLunch will be $12.00 per person and will be catered by Hy-Vee and no shows will be billed. <o:p></o:p></span></p>\n
LOCATION:Willmore Lodge is located at #1 Willmore Lane\, Lake Ozark Just up the road from the Bagnell Dam
UID:e.2565.808
SEQUENCE:3
DTSTAMP:20260423T064111Z
URL:http://business.lakeareachamber.com/events/details/2021-april-ypl-membership-meeting-808
END:VEVENT

END:VCALENDAR
