BEGIN:VCALENDAR
VERSION:2.0
PRODID:-//ChamberMaster//Event Calendar 2.0//EN
METHOD:PUBLISH
X-PUBLISHED-TTL:P3D
REFRESH-INTERVAL:P3D
CALSCALE:GREGORIAN
BEGIN:VEVENT
DTSTART:20210804T164500Z
DTEND:20210804T180000Z
X-MICROSOFT-CDO-ALLDAYEVENT:FALSE
SUMMARY:2021 - August YPL Membership Meeting
DESCRIPTION:Please join us for our next YPL Membership Meeting on Wednesday\, August 4th at Willmore Lodge from 11:45 am to 1:00 pm. Enjoy lunch and networking with your peers. Attendees MUST Pre-Register online or by calling the Lake Area Chamber today at: (573)-964-1008. Deadline for reservations for this event is Friday\, July 30th\, 2021.\n\nLunch will be $12.00 per person and will be catered by Hy-Vee and no shows will be billed.
X-ALT-DESC;FMTTYPE=text/html:<span style="color: rgb(34\, 34\, 34)\; font-family: Arial\, sans-serif\; font-size: 13.3333px\; background-color: rgb(255\, 255\, 255)\;">Please join us for our next YPL Membership Meeting on Wednesday\, August 4th&nbsp\;at Willmore Lodge from 11:45 am to 1:00 pm. Enjoy lunch and networking with your peers. Attendees MUST Pre-Register online&nbsp\;or by calling the Lake Area Chamber today at: (573)-964-1008. Deadline for reservations for this event is Friday\, July 30th\, 2021.</span><br style="color: rgb(34\, 34\, 34)\; font-family: Arial\, sans-serif\; font-size: 13.3333px\; background-color: rgb(255\, 255\, 255)\;" />\n<span style="color: rgb(34\, 34\, 34)\; font-family: Arial\, sans-serif\; font-size: 13.3333px\; background-color: rgb(255\, 255\, 255)\;">Lunch will be $12.00 per person and will be catered by Hy-Vee and no shows will be billed.</span>
LOCATION:Willmore Lodge is located at #1 Willmore Lane\, Lake Ozark Just up the road from the Bagnell Dam
UID:e.2565.816
SEQUENCE:3
DTSTAMP:20260422T234223Z
URL:http://business.lakeareachamber.com/events/details/2021-august-ypl-membership-meeting-816
END:VEVENT

END:VCALENDAR
