BEGIN:VCALENDAR
VERSION:2.0
PRODID:-//ChamberMaster//Event Calendar 2.0//EN
METHOD:PUBLISH
X-PUBLISHED-TTL:P3D
REFRESH-INTERVAL:P3D
CALSCALE:GREGORIAN
BEGIN:VEVENT
DTSTART:20211201T174500Z
DTEND:20211201T190000Z
X-MICROSOFT-CDO-ALLDAYEVENT:FALSE
SUMMARY:2021 - December YPL Membership Meeting
DESCRIPTION:Please join us for our next YPL Membership Meeting on Wednesday\, December 1st at Willmore Lodge from 11:45 am to 1:00 pm. Enjoy lunch and networking with your peers. Attendees MUST Pre-Register online or by calling the Lake Area Chamber today at: (573)-964-1008. Deadline for reservations for this event is Friday\, November 26th\, 2021.\n\nHoliday Lunch will be catered by Hy-Vee and there will be no charge for this luncheon event. Our holiday gift to our YPL Members!! Please bring your favorites cookies to share with the group!! Wear your favorite Holiday wear\, enjoy some networking and enter to win a holiday gift basket!!
X-ALT-DESC;FMTTYPE=text/html:<span style="color: rgb(34\, 34\, 34)\; font-family: Arial\, sans-serif\; font-size: 13.3333px\; background-color: rgb(255\, 255\, 255)\;">Please join us for our next YPL Membership Meeting on Wednesday\, December 1st at Willmore Lodge from 11:45 am to 1:00 pm. Enjoy lunch and networking with your peers. Attendees MUST Pre-Register online&nbsp\;or by calling the Lake Area Chamber today at: (573)-964-1008. <u><strong>Deadline for reservations for this event is Friday\, November 26th\, 2021.</strong></u></span><br style="color: rgb(34\, 34\, 34)\; font-family: Arial\, sans-serif\; font-size: 13.3333px\; background-color: rgb(255\, 255\, 255)\;" />\n<span style="color: rgb(34\, 34\, 34)\; font-family: Arial\, sans-serif\; font-size: 13.3333px\; background-color: rgb(255\, 255\, 255)\;">Holiday Lunch will be catered by Hy-Vee and there will be no charge for this luncheon event. Our holiday gift to our YPL Members!! Please bring your favorites cookies to share with the group!! Wear your favorite Holiday wear\, enjoy some networking and enter to win a holiday gift basket!!&nbsp\;</span>
LOCATION:Willmore Lodge is located at #1 Willmore Lane\, Lake Ozark Just up the road from the Bagnell Dam Please note\, the Bagnell Dam bridge is closed for repairs.
UID:e.2565.842
SEQUENCE:3
DTSTAMP:20260422T193023Z
URL:http://business.lakeareachamber.com/events/details/2021-december-ypl-membership-meeting-842
END:VEVENT

END:VCALENDAR
