BEGIN:VCALENDAR
VERSION:2.0
PRODID:-//ChamberMaster//Event Calendar 2.0//EN
METHOD:PUBLISH
X-PUBLISHED-TTL:P3D
REFRESH-INTERVAL:P3D
CALSCALE:GREGORIAN
BEGIN:VEVENT
DTSTART:20220601T164500Z
DTEND:20220601T180000Z
X-MICROSOFT-CDO-ALLDAYEVENT:FALSE
SUMMARY:2022 - June YPL Membership Meeting
DESCRIPTION:Please join us for our next YPL Membership Meeting on Wednesday\, June 1st at Willmore Lodge from 12:00 pm - 1:00 pm. Enjoy lunch and networking with your peers. Attendees MUST RSVP to the Lake Area Chamber at: 573-964-1008 by Friday\, May 27th\, 2022 to attend this luncheon.\n\n \n\nLunch will be $15.00 per person and will be catered by Dierbergs and no shows will be billed. Looking forward to seeing everyone then!
X-ALT-DESC;FMTTYPE=text/html:<span style="color:#050505\;"><span style="font-family:segoe ui historic\,sans-serif\;"><span style="font-size:11.5pt\;">Please join us for our next YPL Membership Meeting on Wednesday\, June 1st at Willmore Lodge from 12:00 pm - 1:00 pm. Enjoy lunch and networking with your peers. Attendees MUST RSVP to the Lake Area Chamber at: 573-964-1008 by Friday\, May 27th\, 2022 to attend this luncheon.</span></span></span><br />\n&nbsp\;<br />\n<span style="color:#050505\;"><span style="font-family:segoe ui historic\,sans-serif\;"><span style="font-size:11.5pt\;">Lunch will be $15.00 per person and will be catered by Dierbergs and no shows will be billed. Looking forward to seeing everyone then!&nbsp\;</span></span></span><br />\n&nbsp\;
LOCATION:Willmore Lodge #1 Willmore Lane Lake Ozark\, MO 65049
UID:e.2565.852
SEQUENCE:3
DTSTAMP:20260422T072423Z
URL:http://business.lakeareachamber.com/events/details/2022-june-ypl-membership-meeting-852
END:VEVENT

END:VCALENDAR
