BEGIN:VCALENDAR
VERSION:2.0
PRODID:-//ChamberMaster//Event Calendar 2.0//EN
METHOD:PUBLISH
X-PUBLISHED-TTL:P3D
REFRESH-INTERVAL:P3D
CALSCALE:GREGORIAN
BEGIN:VEVENT
DTSTART:20221027T223000Z
DTEND:20221028T013000Z
X-MICROSOFT-CDO-ALLDAYEVENT:FALSE
SUMMARY:2022 - Lake Area Chamber Fall Dinner
DESCRIPTION:Join us for our Annual Membership Meeting and Fall Dinner on Thursday\, October 27\, 2022. Attendees will have the opportunity to network with fellow chamber members\, enjoy a delicious meal\, learn what the Chamber's been up to this past year and help recognize and congratulate businesses and individuals during the Annual Business Awards. Sponsorship Opportunities Available- contact the Lake Area Chamber to learn more!
X-ALT-DESC;FMTTYPE=text/html:<span style="color: rgb(51\, 51\, 51)\; font-family: sans-serif\, Arial\, Verdana\, &quot\;Trebuchet MS&quot\;\; font-size: 13px\; background-color: rgb(255\, 255\, 255)\;">Join us for our Annual Membership Meeting and Fall Dinner on Thursday\, October 27\, 2022. Attendees will have the opportunity to network with fellow chamber members\, enjoy a delicious meal\, learn what the Chamber&#39\;s been up to this past year and help recognize and congratulate businesses and individuals during the Annual Business Awards. Sponsorship Opportunities Available- contact the Lake Area Chamber to learn more!</span>
LOCATION:Event will take place at Margaritaville Resort.
UID:e.2565.1119
SEQUENCE:3
DTSTAMP:20260422T023203Z
URL:http://business.lakeareachamber.com/events/details/2022-lake-area-chamber-fall-dinner-1119
END:VEVENT

END:VCALENDAR
