BEGIN:VCALENDAR
VERSION:2.0
PRODID:-//ChamberMaster//Event Calendar 2.0//EN
METHOD:PUBLISH
X-PUBLISHED-TTL:P3D
REFRESH-INTERVAL:P3D
CALSCALE:GREGORIAN
BEGIN:VEVENT
DTSTART:20230414T153000Z
DTEND:20230414T230000Z
X-MICROSOFT-CDO-ALLDAYEVENT:FALSE
SUMMARY:2023 - 10th Annual Cocktails & Caddies Golf Tournament
DESCRIPTION:A ladies 3 person scramble where the day of the tournament\, you bid on your fourth player (a male) caddie and their prize package!
X-ALT-DESC;FMTTYPE=text/html:<span style="font-size:16px\;"><span style="font-family:verdana\;">A ladies 3 person scramble where the day of the tournament\, you bid on your fourth player (a male) caddie and their prize package!&nbsp\;</span></span><br />\n<br />\n<br />\n<br />\n<br />\n&nbsp\;
LOCATION:The Golf Club at Deer Chase 770 Lowell Williams Road\, Linn Creek\, MO 65052
UID:e.2565.1143
SEQUENCE:3
DTSTAMP:20260421T155200Z
URL:http://business.lakeareachamber.com/events/details/2023-10th-annual-cocktails-caddies-golf-tournament-1143
END:VEVENT

END:VCALENDAR
