BEGIN:VCALENDAR
VERSION:2.0
PRODID:-//ChamberMaster//Event Calendar 2.0//EN
METHOD:PUBLISH
X-PUBLISHED-TTL:P3D
REFRESH-INTERVAL:P3D
CALSCALE:GREGORIAN
BEGIN:VEVENT
DTSTART:20230804T123000Z
DTEND:20230804T140000Z
X-MICROSOFT-CDO-ALLDAYEVENT:FALSE
SUMMARY:2023 - August Eggs and Issues Breakfast
DESCRIPTION:Topic: Missouri Legislative Recap\n\n\n\nPlease join the Lake Area Chamber of Commerce as we host U.S. Congressmen Blaine Luetkemeyer and a Representative form Mark Alford's office. \n\n\n\nReservations are required and must be received by 12pm on Friday\, July 28th.  Register online at www.lakeareachamber.com or call (573)964-1008.
X-ALT-DESC;FMTTYPE=text/html:<span style="font-size:16px\;"><span style="color:#333333\;"><span style="font-family:arial\,sans-serif\;">Topic: Missouri Legislative Recap</span></span><br />\n<br />\n<span style="color:black\;"><span style="font-family:arial\,sans-serif\;">Please join the Lake Area Chamber of Commerce as we host U.S. Congressmen Blaine Luetkemeyer and a Representative form Mark Alford&#39\;s office.&nbsp\;</span></span><br />\n<br />\n<span style="color:#333333\;"><span style="font-family:arial\,sans-serif\;">Reservations are required and must be received by 12pm on Friday\, July 28th.&nbsp\; Register online&nbsp\;at www.lakeareachamber.com or call (573)964-1008.</span></span></span><br />\n&nbsp\;
LOCATION:Willmore Lodge 1 Willmore Ln Lake Ozark\, MO 65049
UID:e.2565.1154
SEQUENCE:3
DTSTAMP:20260421T102629Z
URL:http://business.lakeareachamber.com/events/details/2023-august-eggs-and-issues-breakfast-1154
END:VEVENT

END:VCALENDAR
