BEGIN:VCALENDAR
VERSION:2.0
PRODID:-//ChamberMaster//Event Calendar 2.0//EN
METHOD:PUBLISH
X-PUBLISHED-TTL:P3D
REFRESH-INTERVAL:P3D
CALSCALE:GREGORIAN
BEGIN:VEVENT
DTSTART:20230802T163000Z
DTEND:20230802T180000Z
X-MICROSOFT-CDO-ALLDAYEVENT:FALSE
SUMMARY:2023 - August YPL Membership Meeting
DESCRIPTION:Please join us for our next YPL Membership Meeting on Wednesday\, August 2nd at Willmore Lodge from 11:30 am - 1:00 pm. Enjoy lunch and networking with your peers. Attendees MUST RSVP to the Lake Area Chamber at: 573-964-1008 by Friday\, July 28th to attend this luncheon.\n\n \n\nLunch will be $15.00 per person\, will be catered and no shows will be billed. Looking forward to seeing everyone then!
X-ALT-DESC;FMTTYPE=text/html:<span style="color:#050505\;"><span style="font-family:segoe ui historic\,sans-serif\;"><span style="font-size:11.5pt\;">Please join us for our next YPL Membership Meeting on Wednesday\, August 2nd at Willmore Lodge from 11:30 am - 1:00 pm. Enjoy lunch and networking with your peers. Attendees MUST RSVP to the Lake Area Chamber at: 573-964-1008 by Friday\, July 28th to attend this luncheon.</span></span></span><br />\n&nbsp\;<br />\n<span style="color:#050505\;"><span style="font-family:segoe ui historic\,sans-serif\;"><span style="font-size:11.5pt\;">Lunch will be $15.00 per person\, will be catered and no shows will be billed. Looking forward to seeing everyone then!&nbsp\;</span></span></span><br />\n&nbsp\;
LOCATION:Willmore Lodge #1 Willmore Lane Lake Ozark\, MO 65049
UID:e.2565.1134
SEQUENCE:3
DTSTAMP:20260421T103014Z
URL:http://business.lakeareachamber.com/events/details/2023-august-ypl-membership-meeting-1134
END:VEVENT

END:VCALENDAR
