BEGIN:VCALENDAR
VERSION:2.0
PRODID:-//ChamberMaster//Event Calendar 2.0//EN
METHOD:PUBLISH
X-PUBLISHED-TTL:P3D
REFRESH-INTERVAL:P3D
CALSCALE:GREGORIAN
BEGIN:VEVENT
DTSTART:20231023T223000Z
DTEND:20231024T013000Z
X-MICROSOFT-CDO-ALLDAYEVENT:FALSE
SUMMARY:2023 - Lake Area Chamber Fall Dinner
DESCRIPTION:Join us for our Annual Membership Meeting and Fall Dinner on Monday\, October 23rd. Attendees will have the opportunity to network with fellow chamber members\, enjoy a delicious meal\, learn what the Chamber has been up to this past year and help recognize and congratulate businesses and individuals during the Annual Business Awards. Sponsorship Opportunities Available- Contact the Lake Area Chamber to learn more!
X-ALT-DESC;FMTTYPE=text/html:<span style="font-family:verdana\;"><span style="font-size:14px\;"><span style="color: rgb(51\, 51\, 51)\; background-color: rgb(255\, 255\, 255)\;">Join us for our Annual Membership Meeting and Fall Dinner on Monday\, October 23rd. Attendees will have the opportunity to network with fellow chamber members\, enjoy a delicious meal\, learn what the Chamber has been up to this past year and help recognize and congratulate businesses and individuals during the Annual Business Awards. Sponsorship Opportunities Available- Contact the Lake Area Chamber to learn more!</span></span></span>
LOCATION:Margaritaville Lake Resort
UID:e.2565.1157
SEQUENCE:3
DTSTAMP:20260421T090015Z
URL:http://business.lakeareachamber.com/events/details/2023-lake-area-chamber-fall-dinner-1157
END:VEVENT

END:VCALENDAR
