BEGIN:VCALENDAR
VERSION:2.0
PRODID:-//ChamberMaster//Event Calendar 2.0//EN
METHOD:PUBLISH
X-PUBLISHED-TTL:P3D
REFRESH-INTERVAL:P3D
CALSCALE:GREGORIAN
BEGIN:VEVENT
DTSTART:20260329T000000Z
DTEND:20260329T020000Z
X-MICROSOFT-CDO-ALLDAYEVENT:FALSE
SUMMARY:2026 Lake Arts Council Variety Showcase
DESCRIPTION:The Lake Arts Council presents the 2026 Lake Arts Variety Showcase on Saturday\, March 28 at 7p.m. at the Main Street Music Hall\, 1048 Main Street\, Osage Beach\, MO 65065. Tickets are available at the Lake Arts Council office\, 3797 Osage Beach Parkway\, Suite D-4\, Osage Beach\, MO 65065 or at the door. Adults $15\, Students $5\, and children5 and under are free. Our director is Diane Oltmann and our Emcee will be Mike Clayton. For more information or to purchase tickets contact the Lake Arts Council at 573-964-6366 or email administrator@artsatthelake.com
X-ALT-DESC;FMTTYPE=text/html:The Lake Arts Council presents the 2026 Lake Arts Variety Showcase on Saturday\, March 28 at 7p.m. at the Main Street Music Hall\, 1048 Main Street\, Osage Beach\, MO 65065. Tickets are available at the Lake Arts Council office\, 3797 Osage Beach Parkway\, Suite D-4\, Osage Beach\, MO 65065 or at the door. Adults $15\, Students $5\, and children5 and under are free. Our director is Diane Oltmann and our Emcee will be Mike Clayton. For more information or to purchase tickets contact the Lake Arts Council at 573-964-6366 or email administrator@artsatthelake.com
LOCATION:Main Street Music Hall 1048 Main Street Osage Beach\, Mo 65065
UID:e.2565.1431
SEQUENCE:3
DTSTAMP:20260421T115336Z
URL:http://business.lakeareachamber.com/events/details/2026-lake-arts-council-variety-showcase-1431
END:VEVENT

END:VCALENDAR
