BEGIN:VCALENDAR
VERSION:2.0
PRODID:-//ChamberMaster//Event Calendar 2.0//EN
METHOD:PUBLISH
X-PUBLISHED-TTL:P3D
REFRESH-INTERVAL:P3D
CALSCALE:GREGORIAN
BEGIN:VEVENT
DTSTART:20260413T140000Z
DTEND:20260426T190000Z
X-MICROSOFT-CDO-ALLDAYEVENT:FALSE
SUMMARY:2026 Student Art Quest/Photo Quest
DESCRIPTION:We are excited to announce the 2026 Student Art Quest and Photo Quest Art and Photography Show April 13 - 26\, 2026 at the Lake Arts Council office\, 3797 Osage Beach Parkway\; Suite D-4\, Osage Beach\, MO 65065. The Reception and Awards presentation will be held Sunday\, April 26 \, 2026. K-6th grade awards will be presented at 2:00 p.m. with the 7th-12th grade awards at 2:30 p.m. For more information\, call 573-964-6366 from 9a.m to 2p.m. M-F or email administrator@artsatthelake.com
X-ALT-DESC;FMTTYPE=text/html:We are excited to announce the 2026 Student Art Quest and Photo Quest Art and Photography Show April 13 - 26\, 2026 at the Lake Arts Council office\, 3797 Osage Beach Parkway\; Suite D-4\, Osage Beach\, MO 65065. The Reception and Awards presentation will be held Sunday\, April 26 \, 2026. K-6th grade awards will be presented at 2:00 p.m. with the 7th-12th grade awards at 2:30 p.m. For more information\, call 573-964-6366 from 9a.m to 2p.m. M-F or email administrator@artsatthelake.com
LOCATION:Lake Arts Council office - Stone Crest Mall 3797 Osage Beach Parkway\; Suite D-4 Osage Beach\, MO 65065
UID:e.2565.1432
SEQUENCE:3
DTSTAMP:20260421T070506Z
URL:http://business.lakeareachamber.com/events/details/2026-student-art-quest-photo-quest-1432
END:VEVENT

END:VCALENDAR
