BEGIN:VCALENDAR
VERSION:2.0
PRODID:-//ChamberMaster//Event Calendar 2.0//EN
METHOD:PUBLISH
X-PUBLISHED-TTL:P3D
REFRESH-INTERVAL:P3D
CALSCALE:GREGORIAN
BEGIN:VEVENT
DTSTART:20260504T140000Z
DTEND:20260531T190000Z
X-MICROSOFT-CDO-ALLDAYEVENT:FALSE
SUMMARY:47th Annual Spring Art Show
DESCRIPTION:47h Annual Spring Art Show for Amateur and Professional Artists ART DROP-OFF APRIL 29-30\, 9:00AM-2:00PM ART SHOW MAY 4 - 31\, 9:00AM-2:00PM\, MON.-FRI RECEPTION & AWARDS MAY 31\, 2:00-3:00PM Awards: Best of Show $100\, 1st place $75 (both divisions)\, 2nd place $50 (both divisions)\, 3rd place $25 (both divisions) Location: Lake Arts Council\, 3797 Osage Beach Parkway\, Stonecrest Mall #D4\, Osage Beach\, MO (Enter by Luxury Nails) Please bring this completed entry form and entry fee to the LAC office with your art submissions on April 29-30\, 9:00 a.m. - 2:00 p.m. The artwork may be taken down after the awards on May 31. Open to all ORIGINAL art by both amateur and professional artists. The LAC will retain a 20% commission of all artworks sold. Entry fee: $20 for members of the Lake Arts Council\, $25 for not-yet members. Lake Arts Council annual membership starts at $35. For more information call 573-964-6366 or email: administrator@artsatthelake.com
X-ALT-DESC;FMTTYPE=text/html:47h Annual Spring Art Show for Amateur and Professional Artists ART DROP-OFF APRIL 29-30\, 9:00AM-2:00PM ART SHOW MAY 4 - 31\, 9:00AM-2:00PM\, MON.-FRI RECEPTION &amp\; AWARDS MAY 31\, 2:00-3:00PM Awards: Best of Show $100\, 1st place $75 (both divisions)\, 2nd place $50 (both divisions)\, 3rd place $25 (both divisions) Location: Lake Arts Council\, 3797 Osage Beach Parkway\, Stonecrest Mall #D4\, Osage Beach\, MO (Enter by Luxury Nails) Please bring this completed entry form and entry fee to the LAC office with your art submissions on April 29-30\, 9:00 a.m. - 2:00 p.m. The artwork may be taken down after the awards on May 31. Open to all ORIGINAL art by both amateur and professional artists. The LAC will retain a 20% commission of all artworks sold. Entry fee: $20 for members of the Lake Arts Council\, $25 for not-yet members. Lake Arts Council annual membership starts at $35. For more information call 573-964-6366 or email: administrator@artsatthelake.com
LOCATION:Lake Arts Council - Stone Crest Mall 3797 Osage Beach parkway\; Suite D-4 Osage Beach\, MO 65065
UID:e.2565.1433
SEQUENCE:3
DTSTAMP:20260421T065914Z
URL:http://business.lakeareachamber.com/events/details/47th-annual-spring-art-show-1433
END:VEVENT

END:VCALENDAR
