BEGIN:VCALENDAR
VERSION:2.0
PRODID:-//ChamberMaster//Event Calendar 2.0//EN
METHOD:PUBLISH
X-PUBLISHED-TTL:P3D
REFRESH-INTERVAL:P3D
CALSCALE:GREGORIAN
BEGIN:VEVENT
DTSTART:20230824T163000Z
DTEND:20230824T170000Z
X-MICROSOFT-CDO-ALLDAYEVENT:FALSE
SUMMARY:Big O Tires - Lake Ozark Ribbon Cutting
DESCRIPTION:Please join us in celebrating Big O TIres - Lake Ozark at their Grand Opening ribbon cutting ceremony!
X-ALT-DESC;FMTTYPE=text/html:Please join us in celebrating Big O TIres - Lake Ozark at their Grand Opening ribbon cutting ceremony!
LOCATION:1819 Bagnell Dam Blvd Lake Ozark\, MO 65049
UID:e.2565.1162
SEQUENCE:3
DTSTAMP:20260421T103352Z
URL:http://business.lakeareachamber.com/events/details/big-o-tires-lake-ozark-ribbon-cutting-1162
END:VEVENT

END:VCALENDAR
