BEGIN:VCALENDAR
VERSION:2.0
PRODID:-//ChamberMaster//Event Calendar 2.0//EN
METHOD:PUBLISH
X-PUBLISHED-TTL:P3D
REFRESH-INTERVAL:P3D
CALSCALE:GREGORIAN
BEGIN:VEVENT
DTSTART:20230721T230000Z
DTEND:20230722T020000Z
X-MICROSOFT-CDO-ALLDAYEVENT:FALSE
SUMMARY:Children’s Theatre Production of “Pan”
DESCRIPTION:The Sunrise Beach Little Theatre will be producing a Children's Theatre Production of "Pan" by Craig Sodaro on Friday and Saturday evenings\, July 21 and 22 at the Sunrise Beach Community Center (15133 North Highway 5) at 7:00 pm with doors opening at 6:00 pm.\n\n \n\nThis production is a children's version of the classic "Peter Pan" and will include Peter Pan\, The Darling Children\, Tinker Bell\, The Lost Boys\, Princess Tiger Lily\, Indians\, Captain Hook with His Gang of Pirates\, and of course The Ticking Crocodile. The play is directed by Beth Buffe and Yetta O'Connell.\n\n \n\nAdmission is $10.00 for adults and $5.00 for 12 and under.  Reservations are not required. For more information\, call Beth at 913-909-8603 or Yetta at 573-280-1958.
X-ALT-DESC;FMTTYPE=text/html:<p style="color: rgb(36\, 36\, 36)\; background-color: rgb(255\, 255\, 255)\; font-size: 11pt\; font-family: Calibri\, sans-serif\; margin: 0px\; line-height: 16.8667px\;"><span style="border: 0px\; font-style: inherit\; font-variant: inherit\; font-weight: inherit\; font-stretch: inherit\; font-size: 14pt\; line-height: 21.4667px\; font-family: &quot\;Arial Black&quot\;\, sans-serif\; font-optical-sizing: inherit\; font-kerning: inherit\; font-feature-settings: inherit\; font-variation-settings: inherit\; margin: 0px\; padding: 0px\; vertical-align: baseline\; color: inherit\;">The Sunrise Beach Little Theatre will be producing a Children&rsquo\;s Theatre Production of &ldquo\;Pan&rdquo\; by Craig Sodaro on Friday and Saturday evenings\, July 21 and 22 at the Sunrise Beach Community Center (15133 North Highway 5) at 7:00 pm with doors opening at 6:00 pm.</span></p>\n\n<p style="color: rgb(36\, 36\, 36)\; background-color: rgb(255\, 255\, 255)\; font-size: 11pt\; font-family: Calibri\, sans-serif\; margin: 0px\; line-height: 16.8667px\;"><span style="border: 0px\; font-style: inherit\; font-variant: inherit\; font-weight: inherit\; font-stretch: inherit\; font-size: 14pt\; line-height: 21.4667px\; font-family: &quot\;Arial Black&quot\;\, sans-serif\; font-optical-sizing: inherit\; font-kerning: inherit\; font-feature-settings: inherit\; font-variation-settings: inherit\; margin: 0px\; padding: 0px\; vertical-align: baseline\; color: inherit\;">&nbsp\;</span></p>\n\n<p style="color: rgb(36\, 36\, 36)\; background-color: rgb(255\, 255\, 255)\; font-size: 11pt\; font-family: Calibri\, sans-serif\; margin: 0px\; line-height: 16.8667px\;"><span style="border: 0px\; font-style: inherit\; font-variant: inherit\; font-weight: inherit\; font-stretch: inherit\; font-size: 14pt\; line-height: 21.4667px\; font-family: &quot\;Arial Black&quot\;\, sans-serif\; font-optical-sizing: inherit\; font-kerning: inherit\; font-feature-settings: inherit\; font-variation-settings: inherit\; margin: 0px\; padding: 0px\; vertical-align: baseline\; color: inherit\;">This production is a children&rsquo\;s version of the classic &ldquo\;Peter Pan&rdquo\; and will include Peter Pan\, The Darling Children\, Tinker Bell\, The Lost Boys\, Princess Tiger Lily\, Indians\, Captain Hook with His Gang of Pirates\, and of course The Ticking Crocodile. The play is directed by Beth Buffe and Yetta O&rsquo\;Connell.</span></p>\n\n<p style="color: rgb(36\, 36\, 36)\; background-color: rgb(255\, 255\, 255)\; font-size: 11pt\; font-family: Calibri\, sans-serif\; margin: 0px\; line-height: 16.8667px\;"><span style="border: 0px\; font-style: inherit\; font-variant: inherit\; font-weight: inherit\; font-stretch: inherit\; font-size: 14pt\; line-height: 21.4667px\; font-family: &quot\;Arial Black&quot\;\, sans-serif\; font-optical-sizing: inherit\; font-kerning: inherit\; font-feature-settings: inherit\; font-variation-settings: inherit\; margin: 0px\; padding: 0px\; vertical-align: baseline\; color: inherit\;">&nbsp\;</span></p>\n\n<p style="color: rgb(36\, 36\, 36)\; background-color: rgb(255\, 255\, 255)\; font-size: 11pt\; font-family: Calibri\, sans-serif\; margin: 0px\; line-height: 16.8667px\;"><span style="border: 0px\; font-style: inherit\; font-variant: inherit\; font-weight: inherit\; font-stretch: inherit\; font-size: 14pt\; line-height: 21.4667px\; font-family: &quot\;Arial Black&quot\;\, sans-serif\; font-optical-sizing: inherit\; font-kerning: inherit\; font-feature-settings: inherit\; font-variation-settings: inherit\; margin: 0px\; padding: 0px\; vertical-align: baseline\; color: inherit\;">Admission is $10.00 for adults and $5.00 for 12 and under.&nbsp\; Reservations are not required. For more information\, call Beth at 913-909-8603 or Yetta at 573-280-1958.</span></p>\n
LOCATION:Sunrise Beach Community Center (15133 North Highway 5)
UID:e.2565.1152
SEQUENCE:3
DTSTAMP:20260421T115535Z
URL:http://business.lakeareachamber.com/events/details/children-s-theatre-production-of-pan-1152
END:VEVENT

END:VCALENDAR
