BEGIN:VCALENDAR
VERSION:2.0
PRODID:-//ChamberMaster//Event Calendar 2.0//EN
METHOD:PUBLISH
X-PUBLISHED-TTL:P3D
REFRESH-INTERVAL:P3D
CALSCALE:GREGORIAN
BEGIN:VEVENT
DTSTART:20220930T230000Z
DTEND:20221002T170000Z
X-MICROSOFT-CDO-ALLDAYEVENT:FALSE
SUMMARY:Crossover Music Festival
DESCRIPTION:A 3-day Christian Music Festival at the Lake of the Ozarks. This year's event boasts a spectacular lineup of artists including Austin French\, Building 429\, NewSong\, and many more! Friday and Sunday are FREE! Tickets for Saturday are only $30! Check out our website or Facebook page for more information and to buy tickets!
X-ALT-DESC;FMTTYPE=text/html:A 3-day Christian Music Festival at the Lake of the Ozarks. This year&#39\;s event boasts a spectacular lineup of artists including Austin French\, Building 429\, NewSong\, and many more! Friday and Sunday are FREE! Tickets for Saturday are only $30! Check out our website or Facebook page for more information and to buy tickets!
LOCATION:Ozarks Amphitheater
UID:e.2565.1121
SEQUENCE:3
DTSTAMP:20260422T022102Z
URL:http://business.lakeareachamber.com/events/details/crossover-music-festival-1121
END:VEVENT

END:VCALENDAR
