BEGIN:VCALENDAR
VERSION:2.0
PRODID:-//ChamberMaster//Event Calendar 2.0//EN
METHOD:PUBLISH
X-PUBLISHED-TTL:P3D
REFRESH-INTERVAL:P3D
CALSCALE:GREGORIAN
BEGIN:VEVENT
DTSTART:20220922T190000Z
DTEND:20220922T210000Z
X-MICROSOFT-CDO-ALLDAYEVENT:FALSE
SUMMARY:Free Wellness Check
DESCRIPTION:At StoneBridge Senior Living\, we genuinely care for people and their wellbeing\, and we know the importance of monitoring your health as you age. To hep support our local community and its residents\, we invite you to join us on Thursday\, September 22nd at StoneBridge Lake Ozark from 2-4pm for a free wellness check. Consistent wellness checks help with early detection and medical conditions and provide possible preventions. We highly recommend them\, because we want to see you living your best life and enjoying the moments that matter most with those who matter most to you. Here at StoneBridge\, we welcome you to come receive a complete blood pressure and fitness check by a certified physical therapist\, while enjoying some refreshments on us - just like family. The benefits of regular health checks and being proactive with your health include: -Early detection of specific conditions or disease -Being actively in charge of your own health and wellness -Ability to maintain independent living -Longevity and vitality of life
X-ALT-DESC;FMTTYPE=text/html:At StoneBridge Senior Living\, we genuinely care for people and their wellbeing\, and we know the importance of monitoring your health as you age. To hep support our local community and its residents\, we invite you to join us on Thursday\, September 22nd at StoneBridge Lake Ozark from 2-4pm for a free wellness check. Consistent wellness checks help with early detection and medical conditions and provide possible preventions. We highly recommend them\, because we want to see you living your best life and enjoying the moments that matter most with those who matter most to you. Here at StoneBridge\, we welcome you to come receive a complete blood pressure and fitness check by a certified physical therapist\, while enjoying some refreshments on us - just like family. The benefits of regular health checks and being proactive with your health include: -Early detection of specific conditions or disease -Being actively in charge of your own health and wellness -Ability to maintain independent living -Longevity and vitality of life
LOCATION:StoneBridge Lake Ozark 872 College Blvd Osage Beach\, MO 65065
UID:e.2565.1120
SEQUENCE:3
DTSTAMP:20260422T024618Z
URL:http://business.lakeareachamber.com/events/details/free-wellness-check-1120
END:VEVENT

END:VCALENDAR
