BEGIN:VCALENDAR
VERSION:2.0
PRODID:-//ChamberMaster//Event Calendar 2.0//EN
METHOD:PUBLISH
X-PUBLISHED-TTL:P3D
REFRESH-INTERVAL:P3D
CALSCALE:GREGORIAN
BEGIN:VEVENT
DTSTART:20230815T220000Z
DTEND:20230816T000000Z
X-MICROSOFT-CDO-ALLDAYEVENT:FALSE
SUMMARY:Lake Area Chamber/Mix 92.7 Networking Social
DESCRIPTION:Lake Area Chamber/Mix 92.7 Networking Social
X-ALT-DESC;FMTTYPE=text/html:Lake Area Chamber/Mix 92.7 Networking Social
LOCATION:Dierbergs Lakeview Terrace 4655 Osage Beach Pkwy Osage Beach\, MO 65020
UID:e.2565.1147
SEQUENCE:3
DTSTAMP:20260421T115315Z
URL:http://business.lakeareachamber.com/events/details/lake-area-chamber-mix-92-7-networking-social-08-15-2023-1147
END:VEVENT

END:VCALENDAR
