BEGIN:VCALENDAR
VERSION:2.0
PRODID:-//ChamberMaster//Event Calendar 2.0//EN
METHOD:PUBLISH
X-PUBLISHED-TTL:P3D
REFRESH-INTERVAL:P3D
CALSCALE:GREGORIAN
BEGIN:VEVENT
DTSTART:20230919T220000Z
DTEND:20230920T000000Z
X-MICROSOFT-CDO-ALLDAYEVENT:FALSE
SUMMARY:Lake Area Chamber/Mix 92.7 Networking Social
DESCRIPTION:Lake Area Chamber/Mix 92.7 Networking Social
X-ALT-DESC;FMTTYPE=text/html:Lake Area Chamber/Mix 92.7 Networking Social
LOCATION:Lake of the Ozarks Brewing Co. 6192 Osage Beach Pkwy Osage Beach\, MO 65065
UID:e.2565.1148
SEQUENCE:3
DTSTAMP:20260421T081612Z
URL:http://business.lakeareachamber.com/events/details/lake-area-chamber-mix-92-7-networking-social-09-19-2023-1148
END:VEVENT

END:VCALENDAR
