BEGIN:VCALENDAR
VERSION:2.0
PRODID:-//ChamberMaster//Event Calendar 2.0//EN
METHOD:PUBLISH
X-PUBLISHED-TTL:P3D
REFRESH-INTERVAL:P3D
CALSCALE:GREGORIAN
BEGIN:VEVENT
DTSTART:20221006T200000Z
DTEND:20221006T220000Z
X-MICROSOFT-CDO-ALLDAYEVENT:FALSE
SUMMARY:Lake Area Real Estate Symposium
DESCRIPTION:You're Invited! Lake of the Ozarks Real Estate Development Symposium - Meet the developers who are making a huge impact on the Lake of the Ozarks. Adam Seraphine w/ Harpers Cov Community Development & Blake Hodits w/MO Lake Development Moderated by: Jeff Krantz & Jason Whittle
X-ALT-DESC;FMTTYPE=text/html:You&#39\;re Invited! Lake of the Ozarks Real Estate Development Symposium - Meet the developers who are making a huge impact on the Lake of the Ozarks. Adam Seraphine w/ Harpers Cov Community Development &amp\; Blake Hodits w/MO Lake Development Moderated by: Jeff Krantz &amp\; Jason Whittle
LOCATION:Osage National Golf Course Clubhouse
UID:e.2565.1123
SEQUENCE:3
DTSTAMP:20260422T004446Z
URL:http://business.lakeareachamber.com/events/details/lake-area-real-estate-symposium-1123
END:VEVENT

END:VCALENDAR
