BEGIN:VCALENDAR
VERSION:2.0
PRODID:-//ChamberMaster//Event Calendar 2.0//EN
METHOD:PUBLISH
X-PUBLISHED-TTL:P3D
REFRESH-INTERVAL:P3D
CALSCALE:GREGORIAN
BEGIN:VEVENT
DTSTART:20241110T010000Z
DTEND:20241110T020000Z
X-MICROSOFT-CDO-ALLDAYEVENT:FALSE
SUMMARY:Lake Jazz Band concert
DESCRIPTION:Enjoy the swinging sound of the Lake Jazz Band in concert at Kent Memorial Lutheran Church\, 184 Sunset Hills Drive\, Sunrise Beach\, MO 65079. The concert runs from 7p.m. to 8p.m. For further information\, contact the Lake Arts Council\, 573-964-6366 or administrator@artsatthelake.com.
X-ALT-DESC;FMTTYPE=text/html:Enjoy the swinging sound of the Lake Jazz Band in concert at Kent Memorial Lutheran Church\, 184 Sunset Hills Drive\, Sunrise Beach\, MO 65079. The concert runs from 7p.m. to 8p.m. For further information\, contact the Lake Arts Council\, 573-964-6366 or administrator@artsatthelake.com.
LOCATION:Kent Memorial Lutheran Church 184 Sunset Hills Dr. Sunrise Beach\, MO 65079
UID:e.2565.1312
SEQUENCE:3
DTSTAMP:20260420T080619Z
URL:http://business.lakeareachamber.com/events/details/lake-jazz-band-concert-1312
END:VEVENT

END:VCALENDAR
