BEGIN:VCALENDAR
VERSION:2.0
PRODID:-//ChamberMaster//Event Calendar 2.0//EN
METHOD:PUBLISH
X-PUBLISHED-TTL:P3D
REFRESH-INTERVAL:P3D
CALSCALE:GREGORIAN
BEGIN:VEVENT
DTSTART:20230825T210000Z
DTEND:20230825T213000Z
X-MICROSOFT-CDO-ALLDAYEVENT:FALSE
SUMMARY:Lakeside Luxuries Ribbon Cutting Ceremony
DESCRIPTION:Join us in celebrating new member Lakeside Luxuries at their ribbon cutting ceremony! Enter to win a Pre-Loved designer Handbag!!
X-ALT-DESC;FMTTYPE=text/html:Join us in celebrating new member Lakeside Luxuries at their ribbon cutting ceremony! Enter to win a Pre-Loved designer Handbag!!
LOCATION:1422 Bagnell Dam Blvd Lake Ozark\, MO 65049
UID:e.2565.1163
SEQUENCE:3
DTSTAMP:20260421T103050Z
URL:http://business.lakeareachamber.com/events/details/lakeside-luxuries-ribbon-cutting-ceremony-1163
END:VEVENT

END:VCALENDAR
