BEGIN:VCALENDAR
VERSION:2.0
PRODID:-//ChamberMaster//Event Calendar 2.0//EN
METHOD:PUBLISH
X-PUBLISHED-TTL:P3D
REFRESH-INTERVAL:P3D
CALSCALE:GREGORIAN
BEGIN:VEVENT
DTSTART:20230513T140000Z
DTEND:20230513T190000Z
X-MICROSOFT-CDO-ALLDAYEVENT:FALSE
SUMMARY:Museum's Spring CAR SHOW
DESCRIPTION:Benefits museum expenses. Rain date is Jun 10th. Fee to enter car. Free to look at the cars.
X-ALT-DESC;FMTTYPE=text/html:Benefits museum expenses. Rain date is Jun 10th. Fee to enter car. Free to look at the cars.
LOCATION:206 S Locust\, Linn Creek Mo
UID:e.2565.1140
SEQUENCE:3
DTSTAMP:20260421T143253Z
URL:http://business.lakeareachamber.com/events/details/museum-s-spring-car-show-1140
END:VEVENT

END:VCALENDAR
