BEGIN:VCALENDAR
VERSION:2.0
PRODID:-//ChamberMaster//Event Calendar 2.0//EN
METHOD:PUBLISH
X-PUBLISHED-TTL:P3D
REFRESH-INTERVAL:P3D
CALSCALE:GREGORIAN
BEGIN:VEVENT
DTSTART;VALUE=DATE:20230817
DTEND;VALUE=DATE:20230820
TRANSP:TRANSPARENT
X-MICROSOFT-CDO-ALLDAYEVENT:TRUE
SUMMARY:Nick's True Value 1st Anniversary Weekend
DESCRIPTION:Year End Clearance on ALL Outdoor Furniture!\n\nHuge Savings!\n\nSpin to WIn Prizes!
X-ALT-DESC;FMTTYPE=text/html:Year End Clearance on ALL Outdoor Furniture!<br />\nHuge Savings!<br />\nSpin to WIn Prizes!
LOCATION:1036 Palisades Blvd Osage Beach\, MO 65065
UID:e.2565.1156
SEQUENCE:3
DTSTAMP:20260421T102737Z
URL:http://business.lakeareachamber.com/events/details/nick-s-true-value-1st-anniversary-weekend-1156
END:VEVENT

END:VCALENDAR
