BEGIN:VCALENDAR
VERSION:2.0
PRODID:-//ChamberMaster//Event Calendar 2.0//EN
METHOD:PUBLISH
X-PUBLISHED-TTL:P3D
REFRESH-INTERVAL:P3D
CALSCALE:GREGORIAN
BEGIN:VEVENT
DTSTART:20230818T200000Z
DTEND:20230818T203000Z
X-MICROSOFT-CDO-ALLDAYEVENT:FALSE
SUMMARY:Nick's True Value Ribbon Cutting
DESCRIPTION:Please join us in celebrating the One Year anniversary of Nick's True Value Hardware
X-ALT-DESC;FMTTYPE=text/html:Please join us in celebrating the One Year anniversary of Nick&#39\;s True Value Hardware
LOCATION:1036 Palisades Blvd. Osage Beach\, MO 65065
UID:e.2565.1161
SEQUENCE:3
DTSTAMP:20260421T102803Z
URL:http://business.lakeareachamber.com/events/details/nick-s-true-value-ribbon-cutting-1161
END:VEVENT

END:VCALENDAR
