BEGIN:VCALENDAR
VERSION:2.0
PRODID:-//ChamberMaster//Event Calendar 2.0//EN
METHOD:PUBLISH
X-PUBLISHED-TTL:P3D
REFRESH-INTERVAL:P3D
CALSCALE:GREGORIAN
BEGIN:VEVENT
DTSTART:20220624T190000Z
DTEND:20220626T200000Z
X-MICROSOFT-CDO-ALLDAYEVENT:FALSE
SUMMARY:Osage Rock & Mineral Club Show
DESCRIPTION:Gem stones\, jewelry\, geodes\, fossils\, minerals\, quartz crystals\, custom jewelry by many gifted artists\, cabochons\, gift items\, demonstrations\, displays\, kids games and prizes\, fluorescent mineral display.
X-ALT-DESC;FMTTYPE=text/html:Gem stones\, jewelry\, geodes\, fossils\, minerals\, quartz crystals\, custom jewelry by many gifted artists\, cabochons\, gift items\, demonstrations\, displays\, kids games and prizes\, fluorescent mineral display.
LOCATION:Eldon Community Center 309 E. 2nd St. Eldon\, MO.
UID:e.2565.851
SEQUENCE:3
DTSTAMP:20260422T072541Z
URL:http://business.lakeareachamber.com/events/details/osage-rock-mineral-club-show-851
END:VEVENT

END:VCALENDAR
