BEGIN:VCALENDAR
VERSION:2.0
PRODID:-//ChamberMaster//Event Calendar 2.0//EN
METHOD:PUBLISH
X-PUBLISHED-TTL:P3D
REFRESH-INTERVAL:P3D
CALSCALE:GREGORIAN
BEGIN:VEVENT
DTSTART:20230831T163000Z
DTEND:20230831T170000Z
X-MICROSOFT-CDO-ALLDAYEVENT:FALSE
SUMMARY:Quality Plumbing Quality Mechanical
DESCRIPTION:Please join us in celebrating new member Quality Plumbing Quality Mechanical at their joint ribbon cutting celebration.
X-ALT-DESC;FMTTYPE=text/html:Please join us in celebrating new member Quality Plumbing Quality Mechanical at their joint ribbon cutting celebration.&nbsp\;
LOCATION:#1 Willmore LN Lake Ozark\, MO 65049
UID:e.2565.1164
SEQUENCE:3
DTSTAMP:20260421T102901Z
URL:http://business.lakeareachamber.com/events/details/quality-plumbing-quality-mechanical-1164
END:VEVENT

END:VCALENDAR
