BEGIN:VCALENDAR
VERSION:2.0
PRODID:-//ChamberMaster//Event Calendar 2.0//EN
METHOD:PUBLISH
X-PUBLISHED-TTL:P3D
REFRESH-INTERVAL:P3D
CALSCALE:GREGORIAN
BEGIN:VEVENT
DTSTART:20230617T140000Z
DTEND:20230617T160000Z
X-MICROSOFT-CDO-ALLDAYEVENT:FALSE
SUMMARY:Shred Day
DESCRIPTION:Join Mid America Bank for a free shred day at our Osage Beach branch on Saturday\, June 17th from 9-11am and watch as your sensitive paperwork is destroyed on site! The event is free and open to the public. Residential only\, no businesses. Please remove all binder clips\; paperclips & staples can be left.
X-ALT-DESC;FMTTYPE=text/html:Join Mid America Bank for a free shred day at our Osage Beach branch on Saturday\, June 17th from 9-11am and watch as your sensitive paperwork is destroyed on site! The event is free and open to the public. Residential only\, no businesses. Please remove all binder clips\; paperclips &amp\; staples can be left.
LOCATION:Mid America Bank Osage Beach Branch
UID:e.2565.1144
SEQUENCE:3
DTSTAMP:20260421T130608Z
URL:http://business.lakeareachamber.com/events/details/shred-day-1144
END:VEVENT

END:VCALENDAR
