BEGIN:VCALENDAR
VERSION:2.0
PRODID:-//ChamberMaster//Event Calendar 2.0//EN
METHOD:PUBLISH
X-PUBLISHED-TTL:P3D
REFRESH-INTERVAL:P3D
CALSCALE:GREGORIAN
BEGIN:VEVENT
DTSTART:20221015T140000Z
DTEND:20221015T190000Z
X-MICROSOFT-CDO-ALLDAYEVENT:FALSE
SUMMARY:Suits for Soldiers Lake of the Ozarks
DESCRIPTION:All active Military and Veterans come join us and receive a free suit\, shirt and much\, much more!
X-ALT-DESC;FMTTYPE=text/html:All active Military and Veterans come join us and receive a free suit\, shirt and much\, much more!
LOCATION:Elks Lodge #2517 5161 Osage Beach Parkway Osage Beach\, MO 65065
UID:e.2565.1115
SEQUENCE:3
DTSTAMP:20260422T004746Z
URL:http://business.lakeareachamber.com/events/details/suits-for-soldiers-lake-of-the-ozarks-1115
END:VEVENT

END:VCALENDAR
