BEGIN:VCALENDAR
VERSION:2.0
PRODID:-//ChamberMaster//Event Calendar 2.0//EN
METHOD:PUBLISH
X-PUBLISHED-TTL:P3D
REFRESH-INTERVAL:P3D
CALSCALE:GREGORIAN
BEGIN:VEVENT
DTSTART:20230304T143000Z
DTEND:20230304T200000Z
X-MICROSOFT-CDO-ALLDAYEVENT:FALSE
SUMMARY:YPL Disco Dodgeball Tournament
DESCRIPTION:The Lake Area Chamber of Commerce and the Young Professionals at the Lake are proud to announce they will be hosting their Annual YPL Disco Dodgeball Tournament. The tournament will be held on Saturday\, March 4\, 2023 at School of the Osage Middle School. The Young Professionals at the Lake will donate a portion of all sales back to Local Area Needs Initiative (LANI) here in the Lake of the Ozarks. All team players must be 16 years or older and teams must be co-ed\, to learn more about this event please contact the Lake Area Chamber at (573)-964-1008 today to learn more.
X-ALT-DESC;FMTTYPE=text/html:<span style="color: rgb(31\, 73\, 125)\; font-family: arial\, sans-serif\; font-size: 13px\; background-color: rgb(255\, 255\, 255)\;">The Lake Area Chamber of Commerce and the Young Professionals at the Lake are proud to announce they will be hosting their Annual YPL Disco Dodgeball Tournament. The tournament will be held on Saturday\, March 4\, 2023 at School of the Osage Middle School. The Young Professionals at the Lake will donate a portion of all sales back to Local Area Needs Initiative (LANI) here in the Lake of the Ozarks. All team players must be 16 years or older and teams must be co-ed\, to learn more about this event please contact the Lake Area Chamber at (573)-964-1008 today to learn more.</span>
LOCATION:School of the Osage Middle School
UID:e.2565.1141
SEQUENCE:3
DTSTAMP:20260421T171048Z
URL:http://business.lakeareachamber.com/events/details/ypl-disco-dodgeball-tournament-1141
END:VEVENT

END:VCALENDAR
